BEGIN:VCALENDAR
VERSION:2.0
PRODID:-//Eco Canterbury Calendar - ECPv5.3.1.1//NONSGML v1.0//EN
CALSCALE:GREGORIAN
METHOD:PUBLISH
X-WR-CALNAME:Eco Canterbury Calendar
X-ORIGINAL-URL:https://ecocanterbury.org.nz
X-WR-CALDESC:Events for Eco Canterbury Calendar
BEGIN:VTIMEZONE
TZID:Pacific/Auckland
BEGIN:STANDARD
TZOFFSETFROM:+1300
TZOFFSETTO:+1200
TZNAME:NZST
DTSTART:20210403T140000
END:STANDARD
BEGIN:DAYLIGHT
TZOFFSETFROM:+1200
TZOFFSETTO:+1300
TZNAME:NZDT
DTSTART:20210925T140000
END:DAYLIGHT
END:VTIMEZONE
BEGIN:VEVENT
DTSTART;TZID=Pacific/Auckland:20210115T193000
DTEND;TZID=Pacific/Auckland:20210115T213000
DTSTAMP:20210120T214359
CREATED:20210110T192217Z
LAST-MODIFIED:20210110T192217Z
UID:4391-1610739000-1610746200@ecocanterbury.org.nz
SUMMARY:350.org Film Evening: Kiss the Ground
DESCRIPTION:KISS THE GROUND – Come and watch the full 2020 documentary\n\nBetter use and treatment of our soils can achieve lots:\n\nin regenerating our soils\,\nin restoring lost ecosystems\,\nin drawing down carbon from our overloaded atmosphere\,\nin nourishing plant-life better\,\nin therefore feeding us more healthily.\n\nIt’s up to all of us to play our part\, not just the farmers. The film is not just about farming.\n\nThis is an American documentary\, but we can see useful parallels and differences in the many methods shown in detail here.\nCome and watch\, then discuss over a cuppa and snacks.\n\nWe need to think about future activities here in ChCh this year\, especially with the Climate Change Commission’s first package of advice due out on February 1st.\n\nPlease join us for a thought-provoking film\n\nKoha appreciated.\n\n\n	Related
URL:https://ecocanterbury.org.nz/event/350-org-film-evening-kiss-the-ground/
LOCATION:WEA\, 59 Gloucester St\, Christchurch\, New Zealand
CATEGORIES:Special Event
ATTACH;FMTTYPE=image/png:https://ecocanterbury.org.nz/wp-content/uploads/2021/01/kiss-the-ground.png
ORGANIZER;CN="350.org%20Christchurch":MAILTO:lift@lyttelton.net.nz
END:VEVENT
END:VCALENDAR