BEGIN:VCALENDAR
VERSION:2.0
PRODID:-//Eco Canterbury Calendar - ECPv5.3.1.1//NONSGML v1.0//EN
CALSCALE:GREGORIAN
METHOD:PUBLISH
X-WR-CALNAME:Eco Canterbury Calendar
X-ORIGINAL-URL:https://ecocanterbury.org.nz
X-WR-CALDESC:Events for Eco Canterbury Calendar
BEGIN:VTIMEZONE
TZID:Pacific/Auckland
BEGIN:STANDARD
TZOFFSETFROM:+1300
TZOFFSETTO:+1200
TZNAME:NZST
DTSTART:20210403T140000
END:STANDARD
BEGIN:DAYLIGHT
TZOFFSETFROM:+1200
TZOFFSETTO:+1300
TZNAME:NZDT
DTSTART:20210925T140000
END:DAYLIGHT
END:VTIMEZONE
BEGIN:VEVENT
DTSTART;TZID=Pacific/Auckland:20210115T110000
DTEND;TZID=Pacific/Auckland:20210115T130000
DTSTAMP:20210120T214317
CREATED:20210110T193010Z
LAST-MODIFIED:20210110T193010Z
UID:4394-1610708400-1610715600@ecocanterbury.org.nz
SUMMARY:An Introduction to Permaculture
DESCRIPTION:Hosted by writer and gardener Luke Sole\, An Introduction to Permaculture examines the simple design philosophy that makes garden spaces of all sizes productive and sustainable by using natural processes to create healthy connections between plants and pollinators (such as bees). \nThese sessions cover the essential components of permaculture\, with a practical focus on plant selection\, maximising smaller spaces and managing weeds. \nFree. Drop in session\, RSVP to receive a reminder email. \n\n\n	Related
URL:https://ecocanterbury.org.nz/event/an-introduction-to-permaculture/
LOCATION:Lincoln Library\, 22 Gerald St\, Lincoln\, New Zealand
CATEGORIES:Workshop
ATTACH;FMTTYPE=image/jpeg:https://ecocanterbury.org.nz/wp-content/uploads/2021/01/permaculture1.jpeg
END:VEVENT
END:VCALENDAR